BEGIN:VCALENDAR
VERSION:2.0
PRODID:-//ChamberMaster//Event Calendar 2.0//EN
METHOD:PUBLISH
X-PUBLISHED-TTL:P3D
REFRESH-INTERVAL:P3D
CALSCALE:GREGORIAN
BEGIN:VEVENT
DTSTART:20121022T120000Z
DTEND:20121022T170000Z
X-MICROSOFT-CDO-ALLDAYEVENT:FALSE
SUMMARY:AWFI Technology & Training Symposium
DESCRIPTION:This week long event provides training for coatings personnel in Aerospace\, Automotive\, Wood\, and General Industries.  With Expert knowledge to advance their applications performance.  Whether you are a large or small manufacturer\, you will receive the highest level of hands-on taining for all types of coating applications.  The new AWFI lab at Riverstone provides a perfect venue for coatings technology and training.  In addition to the seminars\, the event will feature real-time open lab demonstrations on the Flat-Line\, Hang-Line\, and Spray Booth.
X-ALT-DESC;FMTTYPE=text/html:This week long event provides training for coatings personnel in Aerospace\, Automotive\, Wood\, and General Industries. &nbsp\;With Expert knowledge to advance their applications performance. &nbsp\;Whether you are a large or small manufacturer\, you will receive the highest level of hands-on taining for all types of coating applications. &nbsp\;The new AWFI lab at Riverstone provides a perfect venue for coatings technology and training. &nbsp\;In addition to the seminars\, the event will feature real-time open lab demonstrations on the Flat-Line\, Hang-Line\, and Spray Booth. &nbsp\; &nbsp\; &nbsp\; &nbsp\;
LOCATION:Riverstone Energy Center
UID:e.845.1479
SEQUENCE:3
DTSTAMP:20260425T002620Z
URL:http://halifax.chambermaster.com/events/details/awfi-technology-training-symposium-10-22-2012-1479
END:VEVENT

END:VCALENDAR
